BEGIN:VCALENDAR
VERSION:2.0
PRODID:-//Kyusho Czech - ECPv6.15.20//NONSGML v1.0//EN
CALSCALE:GREGORIAN
METHOD:PUBLISH
X-WR-CALNAME:Kyusho Czech
X-ORIGINAL-URL:https://www.kyusho-czech.cz
X-WR-CALDESC:Akce na Kyusho Czech
REFRESH-INTERVAL;VALUE=DURATION:PT1H
X-Robots-Tag:noindex
X-PUBLISHED-TTL:PT1H
BEGIN:VTIMEZONE
TZID:Europe/Prague
BEGIN:DAYLIGHT
TZOFFSETFROM:+0100
TZOFFSETTO:+0200
TZNAME:CEST
DTSTART:20240331T010000
END:DAYLIGHT
BEGIN:STANDARD
TZOFFSETFROM:+0200
TZOFFSETTO:+0100
TZNAME:CET
DTSTART:20241027T010000
END:STANDARD
BEGIN:DAYLIGHT
TZOFFSETFROM:+0100
TZOFFSETTO:+0200
TZNAME:CEST
DTSTART:20250330T010000
END:DAYLIGHT
BEGIN:STANDARD
TZOFFSETFROM:+0200
TZOFFSETTO:+0100
TZNAME:CET
DTSTART:20251026T010000
END:STANDARD
BEGIN:DAYLIGHT
TZOFFSETFROM:+0100
TZOFFSETTO:+0200
TZNAME:CEST
DTSTART:20260329T010000
END:DAYLIGHT
BEGIN:STANDARD
TZOFFSETFROM:+0200
TZOFFSETTO:+0100
TZNAME:CET
DTSTART:20261025T010000
END:STANDARD
END:VTIMEZONE
BEGIN:VEVENT
DTSTART;TZID=Europe/Prague:20250322T100000
DTEND;TZID=Europe/Prague:20250322T160000
DTSTAMP:20260421T213227
CREATED:20250209T162524Z
LAST-MODIFIED:20250209T162524Z
UID:1153-1742637600-1742659200@www.kyusho-czech.cz
SUMMARY:Seminář Kyusho - Sebeobrana
DESCRIPTION:Cena: 800 kč ( pro členy v KI)\n1.000 kč ( ostatní)
URL:https://www.kyusho-czech.cz/seminar/seminar-kyusho-sebeobrana/
LOCATION:Chomutov – OA\, Černovická 2901\, Chomutov\, 430 03\, Česká republika
CATEGORIES:seminar
ORGANIZER;CN="Marek Kowalski - Aikid%C3%B3 Club Kanja Chomutov":MAILTO:marek.kowalski@kyusho-czech.cz
END:VEVENT
BEGIN:VEVENT
DTSTART;TZID=Europe/Prague:20250118T090000
DTEND;TZID=Europe/Prague:20250118T130000
DTSTAMP:20260421T213227
CREATED:20240928T205515Z
LAST-MODIFIED:20250105T204712Z
UID:1001-1737190800-1737205200@www.kyusho-czech.cz
SUMMARY:Seminář Kyusho
DESCRIPTION:Seminář Kyusho\n18.1.2025\nPraha\nMiroslav Brožíček (5. dan Kyusho\, 5. dan Aikido)\nZveme Vás na seminář Kyusho\, který povede hlavní instruktor Kyusho International Czech Republic Miroslav Brožíček.\nVeškeré info o semináři a přihlášení je zde v odkaze.\nSeminar-kyusho-leden-2025-Miroslav Brozicek \n 
URL:https://www.kyusho-czech.cz/seminar/seminar-kyusho-2/
LOCATION:Základní škola Na Beránku\, Pertoldova 3373/51\, Praha 12 – Modřany\, 14300\, Česká republika
CATEGORIES:seminar,TOP akce
ATTACH;FMTTYPE=image/jpeg:https://www.kyusho-czech.cz/wp-content/uploads/2024/09/IMG_1134-scaled.jpg
ORGANIZER;CN="Krav Maga Point":MAILTO:marcel.simonides@gmail.com
END:VEVENT
END:VCALENDAR