BEGIN:VCALENDAR
VERSION:2.0
PRODID:-//Kyusho Czech - ECPv6.15.20//NONSGML v1.0//EN
CALSCALE:GREGORIAN
METHOD:PUBLISH
X-ORIGINAL-URL:https://www.kyusho-czech.cz
X-WR-CALDESC:Akce na Kyusho Czech
REFRESH-INTERVAL;VALUE=DURATION:PT1H
X-Robots-Tag:noindex
X-PUBLISHED-TTL:PT1H
BEGIN:VTIMEZONE
TZID:Europe/Prague
BEGIN:DAYLIGHT
TZOFFSETFROM:+0100
TZOFFSETTO:+0200
TZNAME:CEST
DTSTART:20240331T010000
END:DAYLIGHT
BEGIN:STANDARD
TZOFFSETFROM:+0200
TZOFFSETTO:+0100
TZNAME:CET
DTSTART:20241027T010000
END:STANDARD
BEGIN:DAYLIGHT
TZOFFSETFROM:+0100
TZOFFSETTO:+0200
TZNAME:CEST
DTSTART:20250330T010000
END:DAYLIGHT
BEGIN:STANDARD
TZOFFSETFROM:+0200
TZOFFSETTO:+0100
TZNAME:CET
DTSTART:20251026T010000
END:STANDARD
BEGIN:DAYLIGHT
TZOFFSETFROM:+0100
TZOFFSETTO:+0200
TZNAME:CEST
DTSTART:20260329T010000
END:DAYLIGHT
BEGIN:STANDARD
TZOFFSETFROM:+0200
TZOFFSETTO:+0100
TZNAME:CET
DTSTART:20261025T010000
END:STANDARD
BEGIN:DAYLIGHT
TZOFFSETFROM:+0100
TZOFFSETTO:+0200
TZNAME:CEST
DTSTART:20270328T010000
END:DAYLIGHT
BEGIN:STANDARD
TZOFFSETFROM:+0200
TZOFFSETTO:+0100
TZNAME:CET
DTSTART:20271031T010000
END:STANDARD
END:VTIMEZONE
BEGIN:VEVENT
DTSTART;TZID=Europe/Prague:20250914T100000
DTEND;TZID=Europe/Prague:20250914T153000
DTSTAMP:20260421T000201
CREATED:20250824T093648Z
LAST-MODIFIED:20250828T192807Z
UID:1246-1757844000-1757863800@www.kyusho-czech.cz
SUMMARY:Kyusho v Aikido
DESCRIPTION:Zveme Vás na zajímavý seminář\nKyusho v Aikido\nMiroslav Brožíček\n5. dan Aikido\, 5.dan Kyusho\nNa semináři se seznámíte s technikami Aikido\,\nkteré třeba i znáte avšak i v provedení\,\nkdy lze zapojit vitální body /Kyusho/.\nA že Aikido techniky tyto možnosti nabízejí\,\ntak o tom vás jistě Míra Brožíček přesvědčí.\nPřijďte rozšířit své znalosti a zkušenosti o vitální body\,\ncož zahrnuje\npraktické sebeobranné techniky s použitím vitálních bodů\, ale i zdravotní techniky. \nMísto:\nProstřední 7\, Plzeň\nTJ Sokol Nová Hosoda \nČasy: \n10:00-12:00   13:00-15:30\nOběd je možno ráno objednat v místní hospodě. \nCena:\n800\,- Kč\n600\,- Kč pro členy Bohemia Aikikai a členy KI \nOrganizátor:\nJiří Čabrada                 +420 722 207 548\nJaroslav Kovanda       +420 774 104 881
URL:https://www.kyusho-czech.cz/seminar/kyusho-v-aikido/
LOCATION:Plzeň\, Plzeň\, Czech Republic
CATEGORIES:seminar
ATTACH;FMTTYPE=image/jpeg:https://www.kyusho-czech.cz/wp-content/uploads/2024/09/IMG_1189.jpg
END:VEVENT
BEGIN:VEVENT
DTSTART;TZID=Europe/Prague:20251004T100000
DTEND;TZID=Europe/Prague:20251004T160000
DTSTAMP:20260421T000201
CREATED:20250824T094712Z
LAST-MODIFIED:20250824T094712Z
UID:1248-1759572000-1759593600@www.kyusho-czech.cz
SUMMARY:Seminář Kyusho
DESCRIPTION:Seminář Kyusho\nMarek Kowalski\n\n4.dan Aikido\, 3. dan Kyusho\nzveme vás na podmní seminář Kyusho \nTermín:\n4.10.2025\n10:00 – 16-00 \nMísto:\ntělocvična OA\nChomutov ( Černovická 2901) \nCena:\n800\,- Kč\n600\,- Kč pro členy KI \n 
URL:https://www.kyusho-czech.cz/seminar/seminar-kyusho/
LOCATION:Chomutov – OA\, Černovická 2901\, Chomutov\, 430 03\, Česká republika
CATEGORIES:seminar
ATTACH;FMTTYPE=image/jpeg:https://www.kyusho-czech.cz/wp-content/uploads/2022/05/0297_Kyusho-683x1024-kopie.jpg
ORGANIZER;CN="Marek Kowalski - Aikid%C3%B3 Club Kanja Chomutov":MAILTO:marek.kowalski@kyusho-czech.cz
END:VEVENT
BEGIN:VEVENT
DTSTART;TZID=Europe/Prague:20251122T100000
DTEND;TZID=Europe/Prague:20251122T160000
DTSTAMP:20260421T000201
CREATED:20251016T210253Z
LAST-MODIFIED:20251016T212649Z
UID:1283-1763805600-1763827200@www.kyusho-czech.cz
SUMMARY:Kyusho & Systema II - nohy zachraňují
DESCRIPTION:  \n  \n \n\nPROČ PŘIJÍT na seminář NOHY ZACHRAŇUJÍ?\n\nObjevíš a naučíš se vitální body na nohou a jak je efektivně používat\nNaučíš se použít nohy k protiútoku\nNěco málo z boje na zemi a zapojení nohou\nZvládneme koordinaci ruce – nohy\nNěco málo KO technik\n\n  \nRegistraci na seminář  proveďte vyplněním tohoto formuláře -> formulář.
URL:https://www.kyusho-czech.cz/seminar/kyusho-systema-ii/
LOCATION:Lužany u Přeštic\, Lužany 25\, Lužany u Přeštic\, Plzeňský kraj\, 33454
CATEGORIES:seminar
ATTACH;FMTTYPE=image/png:https://www.kyusho-czech.cz/wp-content/uploads/2025/10/Kyu_sys_Seminar_22_11_25_vyrez.png
ORGANIZER;CN="Miroslav Bro%C5%BE%C3%AD%C4%8Dek - Kyusho Czech":MAILTO:miroslav.brozicek@kyusho-czech.cz
END:VEVENT
BEGIN:VEVENT
DTSTART;TZID=Europe/Prague:20260117T100000
DTEND;TZID=Europe/Prague:20260117T120000
DTSTAMP:20260421T000201
CREATED:20260104T141715Z
LAST-MODIFIED:20260104T142154Z
UID:1314-1768644000-1768651200@www.kyusho-czech.cz
SUMMARY:Kyusho - Vitální body pro boj na zemi
DESCRIPTION:KYUSHO – Vitální body pro boj na zemi\nZveme vás na praktický Kyusho workshop\, zaměřený na nejúčinnější tlakové body pro reálnou sebeobranu. \n Datum: 17. 1. 2026\, 10:00 – 12:00\n Lektor: Miroslav Brožíček (vedoucí instruktor Kyusho pro ČR)\n Lokace: Příbram\, Mixova 165 -> Boxerna (bývalé RS fitness) ve dvoře\n  -> Seminář organizuje KAPAP a Kyusho Czech\nO semináři\nKyusho se zabývá využitím citlivých bodů lidského těla k ovládnutí\, vyvedení z rovnováhy nebo okamžitému zastavení útoku.Na tomto semináři se zaměříme na nevýhodné pozice na zemi a jejich řešení pomocí vitálních bodů s propojením do technik \nCo se naučíte:\nlokalizaci kyusho bodů \nsprávný způsob zásahu (směr\, tlak\, úhel) \nkombinace bodů pro maximální účinek \npoužití vnevýhodných pozicích na zemi \naplikace při zápase na zemi (grappling) \nPro koho je seminář určen:\npro cvičence bojových umění a sportů \npro instruktory sebeobrany \npro zájemce o efektivní ochranu v reálných situacích ->  Znalosti Kyusho nejsou podmínkou. \nProč Kyusho?\nfunguje i proti silnějšímu soupeři \nnevyžaduje hrubou sílu \nvyužívá přirozené reakce lidského těla \nRegistrace\nregistrace na stránkách https://www.krav-maga-point.cz/ \nKontakt na organizátora: 605 130 057 Michal Janoušek \n \n 
URL:https://www.kyusho-czech.cz/seminar/kyusho-vitalni-body-pro-boj-na-zemi/
CATEGORIES:seminar,trenink
ATTACH;FMTTYPE=image/jpeg:https://www.kyusho-czech.cz/wp-content/uploads/2024/09/IMG_1180-scaled.jpg
END:VEVENT
BEGIN:VEVENT
DTSTART;TZID=Europe/Prague:20260207T100000
DTEND;TZID=Europe/Prague:20260207T160000
DTSTAMP:20260421T000201
CREATED:20260104T142810Z
LAST-MODIFIED:20260104T142851Z
UID:1320-1770458400-1770480000@www.kyusho-czech.cz
SUMMARY:Kyusho seminář
DESCRIPTION:
URL:https://www.kyusho-czech.cz/seminar/kyusho-seminar/
LOCATION:Chomutov – OA\, Černovická 2901\, Chomutov\, 430 03\, Česká republika
CATEGORIES:seminar,TOP akce
ATTACH;FMTTYPE=image/jpeg:https://www.kyusho-czech.cz/wp-content/uploads/2026/01/WhatsApp-Image-2026-01-03-at-22.19.01.jpeg
ORGANIZER;CN="Marek Kowalski - Aikid%C3%B3 Club Kanja Chomutov":MAILTO:marek.kowalski@kyusho-czech.cz
END:VEVENT
BEGIN:VEVENT
DTSTART;TZID=Europe/Prague:20260228T090000
DTEND;TZID=Europe/Prague:20260228T130000
DTSTAMP:20260421T000201
CREATED:20260104T135421Z
LAST-MODIFIED:20260124T173138Z
UID:1309-1772269200-1772283600@www.kyusho-czech.cz
SUMMARY:Kyusho - TOP 15 bodů pro sebeobranu
DESCRIPTION:🥋 KYUSHO – TOP 15 BODŮ PRO SEBEOBRANU\nZveme vás na praktický Kyusho seminář\, zaměřený na nejúčinnější tlakové body pro reálnou sebeobranu. \n📅 Datum: 28. 2. 2026\, 10:00 – 15:30\n👤 Lektor: Miroslav Brožíček (vedoucí instruktor Kyusho pro ČR)\n📍 Seminář organizuje: Krav Maga Point a Kyusho Czech\nO semináři\nKyusho se zabývá využitím citlivých bodů lidského těla k ovládnutí\, vyvedení z rovnováhy nebo okamžitému zastavení útoku.Na tomto semináři se zaměříme na 15 nejdůležitějších bodů\, které mají nejvyšší efektivitu v sebeobranných situacích. \nCo se naučíte:\nlokalizaci TOP 15 kyusho bodů \nsprávný způsob zásahu (směr\, tlak\, úhel) \nkombinace bodů pro maximální účinek \npoužití v sebeobraně i bojových uměních \naplikace proti úchopům\, úderům i při zápasu \nPro koho je seminář určen:\npro cvičence bojových umění a sportů \npro instruktory sebeobrany \npro zájemce o efektivní ochranu v reálných situacích ->  Znalosti Kyusho nejsou podmínkou \nProč Kyusho?\nfunguje i proti silnějšímu soupeři \nnevyžaduje hrubou sílu \nvyužívá přirozené reakce lidského těla \nDalší důležíte organizační informace\, odkaz ZDE \nRegistrace a cena\nregistrace ZDE \nKontakt na organizátora: 777 633 755 – Marcel Simonides\n(dostupný většinou dopoledne v 9-13 hodin)
URL:https://www.kyusho-czech.cz/seminar/kyusho-top-15-bodu-pro-sebeobranu/
LOCATION:Základní škola Na Beránku\, Pertoldova 3373/51\, Praha 12 – Modřany\, 14300\, Česká republika
CATEGORIES:seminar,TOP akce
ATTACH;FMTTYPE=image/jpeg:https://www.kyusho-czech.cz/wp-content/uploads/2023/03/325587560_685046496627719_5509720600577277367_n.jpg
ORGANIZER;CN="Krav Maga Point":MAILTO:marcel.simonides@gmail.com
END:VEVENT
BEGIN:VEVENT
DTSTART;TZID=Europe/Prague:20260328T100000
DTEND;TZID=Europe/Prague:20260328T153000
DTSTAMP:20260421T000201
CREATED:20260104T144222Z
LAST-MODIFIED:20260105T212605Z
UID:1324-1774692000-1774711800@www.kyusho-czech.cz
SUMMARY:KYUSHO – EFEKTivní SEBEOBRANA
DESCRIPTION: KYUSHO – EFEKTivní SEBEOBRANA\nZveme vás na praktický Kyusho seminář\n zaměřený na nejúčinnější tlakové body z reálné sebeobrany. \n Datum: 28. 3. 2026\n10:00 – 15:30\n Lektor: Miroslav Brožíček\n(vedoucí instruktor Kyusho pro ČR)\n Místo: ZŠ Chvalčov\nBystřice pod Hostýnem\nlokace ZDE\n  \nO semináři\nKyusho se zabývá využitím citlivých bodů lidského těla k ovládnutí\, vyvedení z rovnováhy nebo okamžitému zastavení útoku.Na tomto semináři se zaměříme na použití vitálních bodů pro efektivní sebeobranu\, které mají nejvyšší efektivitu v reálných situacích. \nCo se naučíte:\nlokalizaci a označení Kyusho bodů\nsprávný způsob zásahu (směr\, tlak\, úhel\, anatomické vazby)\nkombinace bodů pro maximální účinek\npoužití v sebeobraně i bojových uměních\naplikace proti úchopům\, úderům i při zápasu \nPro koho je seminář určen:\npro cvičence bojových umění a sportů\npro instruktory sebeobrany\npro zájemce o efektivní ochranu v reálných situacích znalosti Kyusho nejsou podmínkou \nProč Kyusho?\nfunguje i proti silnějšímu soupeři\nnevyžaduje hrubou sílu\nvyužívá přirozené reakce lidského těla \nRegistrace\, cena\, platba\n800\,- / osoba\n600\,- / člen TJ Karate Bystřice nebo člen Kyusho International\nPlatbu prosím proveďte převodem na č. účtu 107-8822080237/0100\, nejpozději však do neděle 22.března 2026.\nDo poznámky uveďte Jméno\, Příjmení + Kyusho.\nZasláním poplatku do neděle 22.března 2026 potvrzujete svou registraci na seminář.\nRegistrací zároveň potvrzujete svou dobrovolnou účast a berete na vědomí veškerá rizika související s účastí na semináři Kyusho.\nKontakt na organizátora: tel.: 732 874 875 \, Tomáš Neradil (TJ Karate Bystřice p. H.) \n 
URL:https://www.kyusho-czech.cz/seminar/kyusho-efektivni-sebeobrana/
CATEGORIES:seminar,TOP akce
ATTACH;FMTTYPE=image/jpeg:https://www.kyusho-czech.cz/wp-content/uploads/2024/09/IMG_1149.jpg
ORGANIZER;CN="Karate TJ Byst%C5%99ice pod Host%C3%BDnem":MAILTO:T.Neradil@seznam.cz
END:VEVENT
BEGIN:VEVENT
DTSTART;TZID=Europe/Prague:20260516T093000
DTEND;TZID=Europe/Prague:20260516T160000
DTSTAMP:20260421T000201
CREATED:20260115T145941Z
LAST-MODIFIED:20260115T145941Z
UID:1335-1778923800-1778947200@www.kyusho-czech.cz
SUMMARY:Seminář Kyusho - M. Brožíček
DESCRIPTION:Seminář KYUSHO – výbrané techniky\nZveme vás na praktický Kyusho seminář\, zaměřený na nejúčinnější tlakové body pro reálnou sebeobranu. \n📅 Datum: 16. 5. 2026\, 10:00 – 15:30\n👤 Lektor: Miroslav Brožíček (vedoucí instruktor Kyusho pro ČR)\n📍 Lokace:  Česká Lípa\nO semináři\nKyusho se zabývá využitím citlivých bodů lidského těla k ovládnutí\, vyvedení z rovnováhy nebo okamžitému zastavení útoku.Na tomto semináři se zaměříme na páky\, odzbrojování a nácvik KO v sebeobranných situacích. \nCo se naučíte:\nsprávný způsob zásahu (směr\, tlak\, úhel) \nkombinace bodů pro maximální účinek \npoužití v sebeobraně i bojových uměních \nPro koho je seminář určen:\npro cvičence bojových umění a sportů \npro instruktory sebeobrany \npro zájemce o efektivní ochranu v reálných situacích ->  Znalosti Kyusho nejsou podmínkou \nProč Kyusho?\nfunguje i proti silnějšímu soupeři \nnevyžaduje hrubou sílu \nvyužívá přirozené reakce lidského těla \nRegistrace a cena\nbude upřesněno již brzy
URL:https://www.kyusho-czech.cz/seminar/seminar-kyusho-m-brozicek-2/
LOCATION:Česká Lípa – Tenshin Shoden Ryu\, Chelčického 1610\, Česká Lípa\, 470 01\, Česká republika
CATEGORIES:seminar
ATTACH;FMTTYPE=image/jpeg:https://www.kyusho-czech.cz/wp-content/uploads/2022/05/0031_Kyusho-scaled.jpg
ORGANIZER;CN="David K%C5%99%C3%AD%C5%BE - Tenshin Shoden Ryu":MAILTO:info@tenshinshodenryu.cz
END:VEVENT
END:VCALENDAR