BEGIN:VCALENDAR
VERSION:2.0
PRODID:-//Kyusho Czech - ECPv6.15.20//NONSGML v1.0//EN
CALSCALE:GREGORIAN
METHOD:PUBLISH
X-WR-CALNAME:Kyusho Czech
X-ORIGINAL-URL:https://www.kyusho-czech.cz
X-WR-CALDESC:Akce na Kyusho Czech
REFRESH-INTERVAL;VALUE=DURATION:PT1H
X-Robots-Tag:noindex
X-PUBLISHED-TTL:PT1H
BEGIN:VTIMEZONE
TZID:Europe/Prague
BEGIN:DAYLIGHT
TZOFFSETFROM:+0100
TZOFFSETTO:+0200
TZNAME:CEST
DTSTART:20250330T010000
END:DAYLIGHT
BEGIN:STANDARD
TZOFFSETFROM:+0200
TZOFFSETTO:+0100
TZNAME:CET
DTSTART:20251026T010000
END:STANDARD
BEGIN:DAYLIGHT
TZOFFSETFROM:+0100
TZOFFSETTO:+0200
TZNAME:CEST
DTSTART:20260329T010000
END:DAYLIGHT
BEGIN:STANDARD
TZOFFSETFROM:+0200
TZOFFSETTO:+0100
TZNAME:CET
DTSTART:20261025T010000
END:STANDARD
BEGIN:DAYLIGHT
TZOFFSETFROM:+0100
TZOFFSETTO:+0200
TZNAME:CEST
DTSTART:20270328T010000
END:DAYLIGHT
BEGIN:STANDARD
TZOFFSETFROM:+0200
TZOFFSETTO:+0100
TZNAME:CET
DTSTART:20271031T010000
END:STANDARD
END:VTIMEZONE
BEGIN:VEVENT
DTSTART;TZID=Europe/Prague:20260516T093000
DTEND;TZID=Europe/Prague:20260516T160000
DTSTAMP:20260420T215803
CREATED:20260115T145941Z
LAST-MODIFIED:20260115T145941Z
UID:1335-1778923800-1778947200@www.kyusho-czech.cz
SUMMARY:Seminář Kyusho - M. Brožíček
DESCRIPTION:Seminář KYUSHO – výbrané techniky\nZveme vás na praktický Kyusho seminář\, zaměřený na nejúčinnější tlakové body pro reálnou sebeobranu. \n📅 Datum: 16. 5. 2026\, 10:00 – 15:30\n👤 Lektor: Miroslav Brožíček (vedoucí instruktor Kyusho pro ČR)\n📍 Lokace:  Česká Lípa\nO semináři\nKyusho se zabývá využitím citlivých bodů lidského těla k ovládnutí\, vyvedení z rovnováhy nebo okamžitému zastavení útoku.Na tomto semináři se zaměříme na páky\, odzbrojování a nácvik KO v sebeobranných situacích. \nCo se naučíte:\nsprávný způsob zásahu (směr\, tlak\, úhel) \nkombinace bodů pro maximální účinek \npoužití v sebeobraně i bojových uměních \nPro koho je seminář určen:\npro cvičence bojových umění a sportů \npro instruktory sebeobrany \npro zájemce o efektivní ochranu v reálných situacích ->  Znalosti Kyusho nejsou podmínkou \nProč Kyusho?\nfunguje i proti silnějšímu soupeři \nnevyžaduje hrubou sílu \nvyužívá přirozené reakce lidského těla \nRegistrace a cena\nbude upřesněno již brzy
URL:https://www.kyusho-czech.cz/seminar/seminar-kyusho-m-brozicek-2/
LOCATION:Česká Lípa – Tenshin Shoden Ryu\, Chelčického 1610\, Česká Lípa\, 470 01\, Česká republika
CATEGORIES:seminar
ATTACH;FMTTYPE=image/jpeg:https://www.kyusho-czech.cz/wp-content/uploads/2022/05/0031_Kyusho-scaled.jpg
ORGANIZER;CN="David K%C5%99%C3%AD%C5%BE - Tenshin Shoden Ryu":MAILTO:info@tenshinshodenryu.cz
END:VEVENT
END:VCALENDAR