BEGIN:VCALENDAR
VERSION:2.0
PRODID:-//Kyusho Czech - ECPv6.15.20//NONSGML v1.0//EN
CALSCALE:GREGORIAN
METHOD:PUBLISH
X-WR-CALNAME:Kyusho Czech
X-ORIGINAL-URL:https://www.kyusho-czech.cz
X-WR-CALDESC:Akce na Kyusho Czech
REFRESH-INTERVAL;VALUE=DURATION:PT1H
X-Robots-Tag:noindex
X-PUBLISHED-TTL:PT1H
BEGIN:VTIMEZONE
TZID:Europe/Prague
BEGIN:DAYLIGHT
TZOFFSETFROM:+0100
TZOFFSETTO:+0200
TZNAME:CEST
DTSTART:20250330T010000
END:DAYLIGHT
BEGIN:STANDARD
TZOFFSETFROM:+0200
TZOFFSETTO:+0100
TZNAME:CET
DTSTART:20251026T010000
END:STANDARD
BEGIN:DAYLIGHT
TZOFFSETFROM:+0100
TZOFFSETTO:+0200
TZNAME:CEST
DTSTART:20260329T010000
END:DAYLIGHT
BEGIN:STANDARD
TZOFFSETFROM:+0200
TZOFFSETTO:+0100
TZNAME:CET
DTSTART:20261025T010000
END:STANDARD
BEGIN:DAYLIGHT
TZOFFSETFROM:+0100
TZOFFSETTO:+0200
TZNAME:CEST
DTSTART:20270328T010000
END:DAYLIGHT
BEGIN:STANDARD
TZOFFSETFROM:+0200
TZOFFSETTO:+0100
TZNAME:CET
DTSTART:20271031T010000
END:STANDARD
END:VTIMEZONE
BEGIN:VEVENT
DTSTART;TZID=Europe/Prague:20260228T090000
DTEND;TZID=Europe/Prague:20260228T130000
DTSTAMP:20260420T183715
CREATED:20260104T135421Z
LAST-MODIFIED:20260124T173138Z
UID:1309-1772269200-1772283600@www.kyusho-czech.cz
SUMMARY:Kyusho - TOP 15 bodů pro sebeobranu
DESCRIPTION:🥋 KYUSHO – TOP 15 BODŮ PRO SEBEOBRANU\nZveme vás na praktický Kyusho seminář\, zaměřený na nejúčinnější tlakové body pro reálnou sebeobranu. \n📅 Datum: 28. 2. 2026\, 10:00 – 15:30\n👤 Lektor: Miroslav Brožíček (vedoucí instruktor Kyusho pro ČR)\n📍 Seminář organizuje: Krav Maga Point a Kyusho Czech\nO semináři\nKyusho se zabývá využitím citlivých bodů lidského těla k ovládnutí\, vyvedení z rovnováhy nebo okamžitému zastavení útoku.Na tomto semináři se zaměříme na 15 nejdůležitějších bodů\, které mají nejvyšší efektivitu v sebeobranných situacích. \nCo se naučíte:\nlokalizaci TOP 15 kyusho bodů \nsprávný způsob zásahu (směr\, tlak\, úhel) \nkombinace bodů pro maximální účinek \npoužití v sebeobraně i bojových uměních \naplikace proti úchopům\, úderům i při zápasu \nPro koho je seminář určen:\npro cvičence bojových umění a sportů \npro instruktory sebeobrany \npro zájemce o efektivní ochranu v reálných situacích ->  Znalosti Kyusho nejsou podmínkou \nProč Kyusho?\nfunguje i proti silnějšímu soupeři \nnevyžaduje hrubou sílu \nvyužívá přirozené reakce lidského těla \nDalší důležíte organizační informace\, odkaz ZDE \nRegistrace a cena\nregistrace ZDE \nKontakt na organizátora: 777 633 755 – Marcel Simonides\n(dostupný většinou dopoledne v 9-13 hodin)
URL:https://www.kyusho-czech.cz/seminar/kyusho-top-15-bodu-pro-sebeobranu/
LOCATION:Základní škola Na Beránku\, Pertoldova 3373/51\, Praha 12 – Modřany\, 14300\, Česká republika
CATEGORIES:seminar,TOP akce
ATTACH;FMTTYPE=image/jpeg:https://www.kyusho-czech.cz/wp-content/uploads/2023/03/325587560_685046496627719_5509720600577277367_n.jpg
ORGANIZER;CN="Krav Maga Point":MAILTO:marcel.simonides@gmail.com
END:VEVENT
END:VCALENDAR