BEGIN:VCALENDAR
VERSION:2.0
PRODID:-//Kyusho Czech - ECPv6.15.20//NONSGML v1.0//EN
CALSCALE:GREGORIAN
METHOD:PUBLISH
X-WR-CALNAME:Kyusho Czech
X-ORIGINAL-URL:https://www.kyusho-czech.cz
X-WR-CALDESC:Akce na Kyusho Czech
REFRESH-INTERVAL;VALUE=DURATION:PT1H
X-Robots-Tag:noindex
X-PUBLISHED-TTL:PT1H
BEGIN:VTIMEZONE
TZID:Europe/Prague
BEGIN:DAYLIGHT
TZOFFSETFROM:+0100
TZOFFSETTO:+0200
TZNAME:CEST
DTSTART:20250330T010000
END:DAYLIGHT
BEGIN:STANDARD
TZOFFSETFROM:+0200
TZOFFSETTO:+0100
TZNAME:CET
DTSTART:20251026T010000
END:STANDARD
BEGIN:DAYLIGHT
TZOFFSETFROM:+0100
TZOFFSETTO:+0200
TZNAME:CEST
DTSTART:20260329T010000
END:DAYLIGHT
BEGIN:STANDARD
TZOFFSETFROM:+0200
TZOFFSETTO:+0100
TZNAME:CET
DTSTART:20261025T010000
END:STANDARD
BEGIN:DAYLIGHT
TZOFFSETFROM:+0100
TZOFFSETTO:+0200
TZNAME:CEST
DTSTART:20270328T010000
END:DAYLIGHT
BEGIN:STANDARD
TZOFFSETFROM:+0200
TZOFFSETTO:+0100
TZNAME:CET
DTSTART:20271031T010000
END:STANDARD
END:VTIMEZONE
BEGIN:VEVENT
DTSTART;TZID=Europe/Prague:20260207T100000
DTEND;TZID=Europe/Prague:20260207T160000
DTSTAMP:20260420T201831
CREATED:20260104T142810Z
LAST-MODIFIED:20260104T142851Z
UID:1320-1770458400-1770480000@www.kyusho-czech.cz
SUMMARY:Kyusho seminář
DESCRIPTION:
URL:https://www.kyusho-czech.cz/seminar/kyusho-seminar/
LOCATION:Chomutov – OA\, Černovická 2901\, Chomutov\, 430 03\, Česká republika
CATEGORIES:seminar,TOP akce
ATTACH;FMTTYPE=image/jpeg:https://www.kyusho-czech.cz/wp-content/uploads/2026/01/WhatsApp-Image-2026-01-03-at-22.19.01.jpeg
ORGANIZER;CN="Marek Kowalski - Aikid%C3%B3 Club Kanja Chomutov":MAILTO:marek.kowalski@kyusho-czech.cz
END:VEVENT
END:VCALENDAR